Package: affycoretools Version: 1.76.0 Command: /home/biocbuild/bbs-3.19-bioc/R/bin/R CMD INSTALL affycoretools StartedAt: 2024-10-16 16:30:25 -0400 (Wed, 16 Oct 2024) EndedAt: 2024-10-16 16:31:26 -0400 (Wed, 16 Oct 2024) EllapsedTime: 60.8 seconds RetCode: 0 Status: OK