Package: airpart Version: 1.12.0 Maintainer: Wancen Mu MaintainerEmail: wancen at live.unc.edu git_url: https://git.bioconductor.org/packages/airpart git_branch: RELEASE_3_19 git_last_commit: 41e1b1b git_last_commit_date: 2024-04-30 11:32:40 -0400 (Tue, 30 Apr 2024)