Package: airpart Version: 1.12.0 Command: rm -rf airpart.buildbin-libdir && mkdir airpart.buildbin-libdir && /Users/biocbuild/BBS/utils/build-universal.sh airpart_1.12.0.tar.gz /Library/Frameworks/R.framework/Resources/bin/R airpart.buildbin-libdir StartedAt: 2024-10-18 17:13:17 -0400 (Fri, 18 Oct 2024) EndedAt: 2024-10-18 17:14:03 -0400 (Fri, 18 Oct 2024) EllapsedTime: 46.3 seconds RetCode: 0 Status: OK PackageFile: airpart_1.12.0.tgz PackageFileSize: 1.577 MiB