Package: airpart Version: 1.12.0 Command: /Library/Frameworks/R.framework/Resources/bin/R CMD build --keep-empty-dirs --no-resave-data airpart StartedAt: 2024-10-16 19:12:20 -0400 (Wed, 16 Oct 2024) EndedAt: 2024-10-16 19:13:47 -0400 (Wed, 16 Oct 2024) EllapsedTime: 87.0 seconds RetCode: 0 Status: OK PackageFile: airpart_1.12.0.tar.gz PackageFileSize: 1.487 MiB