Package: airpart Version: 1.12.0 Command: rm -rf airpart.buildbin-libdir && mkdir airpart.buildbin-libdir && /Users/biocbuild/BBS/utils/build-universal.sh airpart_1.12.0.tar.gz /Library/Frameworks/R.framework/Resources/bin/R airpart.buildbin-libdir StartedAt: 2024-06-11 10:04:24 -0400 (Tue, 11 Jun 2024) EndedAt: 2024-06-11 10:05:28 -0400 (Tue, 11 Jun 2024) EllapsedTime: 63.9 seconds RetCode: 0 Status: OK PackageFile: airpart_1.12.0.tgz PackageFileSize: 1.577 MiB