Package: airpart Version: 1.12.0 Command: /home/biocbuild/R/R-beta-2024-04-15_r86425/bin/R CMD build --keep-empty-dirs --no-resave-data airpart StartedAt: 2024-05-08 22:15:17 -0000 (Wed, 08 May 2024) EndedAt: 2024-05-08 22:17:14 -0000 (Wed, 08 May 2024) EllapsedTime: 117.2 seconds RetCode: 0 Status: OK PackageFile: airpart_1.12.0.tar.gz PackageFileSize: 783.4 KiB