Package: airpart Version: 1.12.0 Command: /home/biocbuild/bbs-3.19-bioc/R/bin/R CMD build --keep-empty-dirs --no-resave-data airpart StartedAt: 2024-10-16 16:52:40 -0400 (Wed, 16 Oct 2024) EndedAt: 2024-10-16 16:53:55 -0400 (Wed, 16 Oct 2024) EllapsedTime: 75.2 seconds RetCode: 0 Status: OK PackageFile: airpart_1.12.0.tar.gz PackageFileSize: 1.137 MiB