Package: airpart Version: 1.12.0 Command: /home/biocbuild/bbs-3.19-bioc/R/bin/R CMD check --install=check:airpart.install-out.txt --library=/home/biocbuild/bbs-3.19-bioc/R/site-library --timings airpart_1.12.0.tar.gz StartedAt: 2024-10-16 21:32:37 -0400 (Wed, 16 Oct 2024) EndedAt: 2024-10-16 21:38:10 -0400 (Wed, 16 Oct 2024) EllapsedTime: 332.8 seconds RetCode: 0 Status: OK CheckDir: airpart.Rcheck Warnings: 0