Package: airpart Version: 1.12.0 Command: chmod a+r airpart -R && F:\biocbuild\bbs-3.19-bioc\R\bin\R.exe CMD build --keep-empty-dirs --no-resave-data airpart StartedAt: 2024-06-26 17:02:07 -0400 (Wed, 26 Jun 2024) EndedAt: 2024-06-26 17:03:57 -0400 (Wed, 26 Jun 2024) EllapsedTime: 110.5 seconds RetCode: 0 Status: OK PackageFile: airpart_1.12.0.tar.gz PackageFileSize: 710 KiB