Package: airpart Version: 1.12.0 Command: rm -rf airpart.buildbin-libdir && mkdir airpart.buildbin-libdir && E:\biocbuild\bbs-3.19-bioc\R\bin\R.exe CMD INSTALL --build --library=airpart.buildbin-libdir airpart_1.12.0.tar.gz StartedAt: 2024-10-17 07:18:37 -0400 (Thu, 17 Oct 2024) EndedAt: 2024-10-17 07:19:28 -0400 (Thu, 17 Oct 2024) EllapsedTime: 51.0 seconds RetCode: 0 Status: OK PackageFile: airpart_1.12.0.zip PackageFileSize: 804.3 KiB