Package: airpart Version: 1.12.0 Command: chmod a+r airpart -R && E:\biocbuild\bbs-3.19-bioc\R\bin\R.exe CMD build --keep-empty-dirs --no-resave-data airpart StartedAt: 2024-10-16 17:30:38 -0400 (Wed, 16 Oct 2024) EndedAt: 2024-10-16 17:32:25 -0400 (Wed, 16 Oct 2024) EllapsedTime: 107.4 seconds RetCode: 0 Status: OK PackageFile: airpart_1.12.0.tar.gz PackageFileSize: 710 KiB