Package: alabaster.base Version: 1.4.2 Command: chmod a+r alabaster.base -R && F:\biocbuild\bbs-3.19-bioc\R\bin\R.exe CMD build --keep-empty-dirs --no-resave-data alabaster.base StartedAt: 2024-06-26 17:02:12 -0400 (Wed, 26 Jun 2024) EndedAt: 2024-06-26 17:04:23 -0400 (Wed, 26 Jun 2024) EllapsedTime: 130.6 seconds RetCode: 0 Status: OK PackageFile: alabaster.base_1.4.2.tar.gz PackageFileSize: 395.4 KiB