Package: alabaster.base Version: 1.4.2 Command: F:\biocbuild\bbs-3.19-bioc\R\bin\R.exe CMD INSTALL alabaster.base StartedAt: 2024-06-26 15:45:41 -0400 (Wed, 26 Jun 2024) EndedAt: 2024-06-26 15:47:34 -0400 (Wed, 26 Jun 2024) EllapsedTime: 113.7 seconds RetCode: 0 Status: OK