Package: alabaster.base Version: 1.4.2 Command: E:\biocbuild\bbs-3.19-bioc\R\bin\R.exe CMD INSTALL alabaster.base StartedAt: 2024-10-16 16:06:37 -0400 (Wed, 16 Oct 2024) EndedAt: 2024-10-16 16:11:02 -0400 (Wed, 16 Oct 2024) EllapsedTime: 264.0 seconds RetCode: 0 Status: OK