Package: alabaster.bumpy Version: 1.4.0 Command: /Library/Frameworks/R.framework/Resources/bin/R CMD build --keep-empty-dirs --no-resave-data alabaster.bumpy StartedAt: 2024-06-09 17:56:32 -0400 (Sun, 09 Jun 2024) EndedAt: 2024-06-09 17:56:54 -0400 (Sun, 09 Jun 2024) EllapsedTime: 22.0 seconds RetCode: 0 Status: OK PackageFile: alabaster.bumpy_1.4.0.tar.gz PackageFileSize: 235.3 KiB