Package: alabaster.bumpy Version: 1.4.0 Command: /home/biocbuild/R/R-beta-2024-04-15_r86425/bin/R CMD build --keep-empty-dirs --no-resave-data alabaster.bumpy StartedAt: 2024-05-08 22:15:34 -0000 (Wed, 08 May 2024) EndedAt: 2024-05-08 22:15:58 -0000 (Wed, 08 May 2024) EllapsedTime: 24.0 seconds RetCode: 0 Status: OK PackageFile: alabaster.bumpy_1.4.0.tar.gz PackageFileSize: 260.5 KiB