Package: alabaster.bumpy Version: 1.4.0 Command: /home/biocbuild/R/R-beta-2024-04-15_r86425/bin/R CMD check --install=check:alabaster.bumpy.install-out.txt --library=/home/biocbuild/R/R-beta-2024-04-15_r86425/site-library --no-vignettes --timings alabaster.bumpy_1.4.0.tar.gz StartedAt: 2024-05-09 04:39:53 -0000 (Thu, 09 May 2024) EndedAt: 2024-05-09 04:41:48 -0000 (Thu, 09 May 2024) EllapsedTime: 115.2 seconds RetCode: 0 Status: OK CheckDir: alabaster.bumpy.Rcheck Warnings: 0