Package: alabaster.bumpy Version: 1.4.0 Command: chmod a+r alabaster.bumpy -R && F:\biocbuild\bbs-3.19-bioc\R\bin\R.exe CMD build --keep-empty-dirs --no-resave-data alabaster.bumpy StartedAt: 2024-06-26 17:02:17 -0400 (Wed, 26 Jun 2024) EndedAt: 2024-06-26 17:02:40 -0400 (Wed, 26 Jun 2024) EllapsedTime: 23.7 seconds RetCode: 0 Status: OK PackageFile: alabaster.bumpy_1.4.0.tar.gz PackageFileSize: 235.4 KiB