Package: alabaster.bumpy Version: 1.4.0 Command: E:\biocbuild\bbs-3.19-bioc\R\bin\R.exe CMD check --no-multiarch --install=check:alabaster.bumpy.install-out.txt --library=E:\biocbuild\bbs-3.19-bioc\R\library --no-vignettes --timings alabaster.bumpy_1.4.0.tar.gz StartedAt: 2024-10-16 22:45:12 -0400 (Wed, 16 Oct 2024) EndedAt: 2024-10-16 22:46:58 -0400 (Wed, 16 Oct 2024) EllapsedTime: 105.9 seconds RetCode: 0 Status: OK CheckDir: alabaster.bumpy.Rcheck Warnings: 0