Package: alabaster.mae Version: 1.4.0 Command: /Library/Frameworks/R.framework/Resources/bin/R CMD INSTALL alabaster.mae StartedAt: 2024-10-16 18:35:29 -0400 (Wed, 16 Oct 2024) EndedAt: 2024-10-16 18:36:02 -0400 (Wed, 16 Oct 2024) EllapsedTime: 32.4 seconds RetCode: 0 Status: OK