Package: alabaster.ranges Version: 1.4.1 Command: rm -rf alabaster.ranges.buildbin-libdir && mkdir alabaster.ranges.buildbin-libdir && /Users/biocbuild/BBS/utils/build-universal.sh alabaster.ranges_1.4.1.tar.gz /Library/Frameworks/R.framework/Resources/bin/R alabaster.ranges.buildbin-libdir StartedAt: 2024-06-10 00:06:08 -0400 (Mon, 10 Jun 2024) EndedAt: 2024-06-10 00:06:26 -0400 (Mon, 10 Jun 2024) EllapsedTime: 18.0 seconds RetCode: 0 Status: OK PackageFile: alabaster.ranges_1.4.1.tgz PackageFileSize: 307.2 KiB