Package: alabaster.ranges Version: 1.4.2 Command: /Library/Frameworks/R.framework/Resources/bin/R CMD INSTALL alabaster.ranges StartedAt: 2024-10-16 15:20:21 -0400 (Wed, 16 Oct 2024) EndedAt: 2024-10-16 15:20:50 -0400 (Wed, 16 Oct 2024) EllapsedTime: 29.1 seconds RetCode: 0 Status: OK