Package: alabaster.ranges Version: 1.4.2 Command: rm -rf alabaster.ranges.buildbin-libdir && mkdir alabaster.ranges.buildbin-libdir && E:\biocbuild\bbs-3.19-bioc\R\bin\R.exe CMD INSTALL --build --library=alabaster.ranges.buildbin-libdir alabaster.ranges_1.4.2.tar.gz StartedAt: 2024-10-17 07:18:49 -0400 (Thu, 17 Oct 2024) EndedAt: 2024-10-17 07:19:19 -0400 (Thu, 17 Oct 2024) EllapsedTime: 30.9 seconds RetCode: 0 Status: OK PackageFile: alabaster.ranges_1.4.2.zip PackageFileSize: 312.2 KiB