Package: alabaster.ranges Version: 1.4.2 Command: chmod a+r alabaster.ranges -R && E:\biocbuild\bbs-3.19-bioc\R\bin\R.exe CMD build --keep-empty-dirs --no-resave-data alabaster.ranges StartedAt: 2024-10-16 17:31:12 -0400 (Wed, 16 Oct 2024) EndedAt: 2024-10-16 17:31:38 -0400 (Wed, 16 Oct 2024) EllapsedTime: 25.8 seconds RetCode: 0 Status: OK PackageFile: alabaster.ranges_1.4.2.tar.gz PackageFileSize: 225.7 KiB