Package: alabaster.ranges Version: 1.4.2 Command: E:\biocbuild\bbs-3.19-bioc\R\bin\R.exe CMD INSTALL alabaster.ranges StartedAt: 2024-10-16 16:16:50 -0400 (Wed, 16 Oct 2024) EndedAt: 2024-10-16 16:17:11 -0400 (Wed, 16 Oct 2024) EllapsedTime: 20.9 seconds RetCode: 0 Status: OK