Package: alabaster.se Version: 1.4.1 Command: /Library/Frameworks/R.framework/Resources/bin/R CMD check --install=check:alabaster.se.install-out.txt --library=/Library/Frameworks/R.framework/Resources/library --no-vignettes --timings alabaster.se_1.4.1.tar.gz StartedAt: 2024-10-17 12:02:40 -0400 (Thu, 17 Oct 2024) EndedAt: 2024-10-17 12:06:31 -0400 (Thu, 17 Oct 2024) EllapsedTime: 230.7 seconds RetCode: 0 Status: OK CheckDir: alabaster.se.Rcheck Warnings: 0