Package: alabaster.se Version: 1.4.1 Command: /home/biocbuild/bbs-3.19-bioc/R/bin/R CMD build --keep-empty-dirs --no-resave-data alabaster.se StartedAt: 2024-10-16 16:53:32 -0400 (Wed, 16 Oct 2024) EndedAt: 2024-10-16 16:54:05 -0400 (Wed, 16 Oct 2024) EllapsedTime: 33.1 seconds RetCode: 0 Status: OK PackageFile: alabaster.se_1.4.1.tar.gz PackageFileSize: 224.6 KiB