Package: alabaster.se Version: 1.4.1 Command: /home/biocbuild/bbs-3.19-bioc/R/bin/R CMD check --install=check:alabaster.se.install-out.txt --library=/home/biocbuild/bbs-3.19-bioc/R/site-library --timings alabaster.se_1.4.1.tar.gz StartedAt: 2024-10-16 21:33:32 -0400 (Wed, 16 Oct 2024) EndedAt: 2024-10-16 21:36:51 -0400 (Wed, 16 Oct 2024) EllapsedTime: 199.5 seconds RetCode: 0 Status: OK CheckDir: alabaster.se.Rcheck Warnings: 0