Package: alabaster.se Version: 1.4.1 Command: rm -rf alabaster.se.buildbin-libdir && mkdir alabaster.se.buildbin-libdir && E:\biocbuild\bbs-3.19-bioc\R\bin\R.exe CMD INSTALL --build --library=alabaster.se.buildbin-libdir alabaster.se_1.4.1.tar.gz StartedAt: 2024-10-17 07:18:54 -0400 (Thu, 17 Oct 2024) EndedAt: 2024-10-17 07:19:27 -0400 (Thu, 17 Oct 2024) EllapsedTime: 32.7 seconds RetCode: 0 Status: OK PackageFile: alabaster.se_1.4.1.zip PackageFileSize: 299.5 KiB