Package: alabaster.se Version: 1.4.1 Command: E:\biocbuild\bbs-3.19-bioc\R\bin\R.exe CMD check --no-multiarch --install=check:alabaster.se.install-out.txt --library=E:\biocbuild\bbs-3.19-bioc\R\library --no-vignettes --timings alabaster.se_1.4.1.tar.gz StartedAt: 2024-10-16 22:45:53 -0400 (Wed, 16 Oct 2024) EndedAt: 2024-10-16 22:49:36 -0400 (Wed, 16 Oct 2024) EllapsedTime: 223.6 seconds RetCode: 0 Status: OK CheckDir: alabaster.se.Rcheck Warnings: 0