Package: alabaster.se Version: 1.4.1 Command: E:\biocbuild\bbs-3.19-bioc\R\bin\R.exe CMD INSTALL alabaster.se StartedAt: 2024-10-16 17:12:48 -0400 (Wed, 16 Oct 2024) EndedAt: 2024-10-16 17:13:21 -0400 (Wed, 16 Oct 2024) EllapsedTime: 32.2 seconds RetCode: 0 Status: OK