Package: alevinQC Version: 1.20.0 Command: rm -rf alevinQC.buildbin-libdir && mkdir alevinQC.buildbin-libdir && /Users/biocbuild/BBS/utils/build-universal.sh alevinQC_1.20.0.tar.gz /Library/Frameworks/R.framework/Resources/bin/R alevinQC.buildbin-libdir StartedAt: 2024-10-17 15:36:57 -0400 (Thu, 17 Oct 2024) EndedAt: 2024-10-17 15:37:34 -0400 (Thu, 17 Oct 2024) EllapsedTime: 37.0 seconds RetCode: 0 Status: OK PackageFile: alevinQC_1.20.0.tgz PackageFileSize: 8.01 MiB