Package: alevinQC Version: 1.20.0 Command: /Library/Frameworks/R.framework/Resources/bin/R CMD build --keep-empty-dirs --no-resave-data alevinQC StartedAt: 2024-10-16 17:01:21 -0400 (Wed, 16 Oct 2024) EndedAt: 2024-10-16 17:02:39 -0400 (Wed, 16 Oct 2024) EllapsedTime: 78.6 seconds RetCode: 0 Status: OK PackageFile: alevinQC_1.20.0.tar.gz PackageFileSize: 7.605 MiB