Package: alevinQC Version: 1.20.0 Command: /home/biocbuild/bbs-3.19-bioc/R/bin/R CMD build --keep-empty-dirs --no-resave-data alevinQC StartedAt: 2024-10-16 16:53:42 -0400 (Wed, 16 Oct 2024) EndedAt: 2024-10-16 16:54:16 -0400 (Wed, 16 Oct 2024) EllapsedTime: 34.1 seconds RetCode: 0 Status: OK PackageFile: alevinQC_1.20.0.tar.gz PackageFileSize: 7.443 MiB