Package: alevinQC Version: 1.20.0 Command: /home/biocbuild/bbs-3.19-bioc/R/bin/R CMD INSTALL alevinQC StartedAt: 2024-10-16 16:18:56 -0400 (Wed, 16 Oct 2024) EndedAt: 2024-10-16 16:19:07 -0400 (Wed, 16 Oct 2024) EllapsedTime: 10.3 seconds RetCode: 0 Status: OK