Package: alevinQC Version: 1.20.0 Command: chmod a+r alevinQC -R && F:\biocbuild\bbs-3.19-bioc\R\bin\R.exe CMD build --keep-empty-dirs --no-resave-data alevinQC StartedAt: 2024-06-26 17:03:12 -0400 (Wed, 26 Jun 2024) EndedAt: 2024-06-26 17:04:10 -0400 (Wed, 26 Jun 2024) EllapsedTime: 58.4 seconds RetCode: 0 Status: OK PackageFile: alevinQC_1.20.0.tar.gz PackageFileSize: 7.309 MiB