Package: altcdfenvs Version: 2.66.0 Command: /Library/Frameworks/R.framework/Resources/bin/R CMD check --install=check:altcdfenvs.install-out.txt --library=/Library/Frameworks/R.framework/Resources/library --no-vignettes --timings altcdfenvs_2.66.0.tar.gz StartedAt: 2024-10-17 12:08:53 -0400 (Thu, 17 Oct 2024) EndedAt: 2024-10-17 12:11:00 -0400 (Thu, 17 Oct 2024) EllapsedTime: 126.3 seconds RetCode: 0 Status: OK CheckDir: altcdfenvs.Rcheck Warnings: 0