Package: altcdfenvs Version: 2.66.0 Command: rm -rf altcdfenvs.buildbin-libdir && mkdir altcdfenvs.buildbin-libdir && E:\biocbuild\bbs-3.19-bioc\R\bin\R.exe CMD INSTALL --build --library=altcdfenvs.buildbin-libdir altcdfenvs_2.66.0.tar.gz StartedAt: 2024-10-17 07:19:24 -0400 (Thu, 17 Oct 2024) EndedAt: 2024-10-17 07:20:08 -0400 (Thu, 17 Oct 2024) EllapsedTime: 44.7 seconds RetCode: 0 Status: OK PackageFile: altcdfenvs_2.66.0.zip PackageFileSize: 787.8 KiB