Package: annmap Version: 1.46.0 Command: /Library/Frameworks/R.framework/Resources/bin/R CMD build --keep-empty-dirs --no-resave-data annmap StartedAt: 2024-06-09 15:50:06 -0400 (Sun, 09 Jun 2024) EndedAt: 2024-06-09 15:50:45 -0400 (Sun, 09 Jun 2024) EllapsedTime: 38.4 seconds RetCode: 0 Status: OK PackageFile: annmap_1.46.0.tar.gz PackageFileSize: 1.005 MiB