Package: annotatr Version: 1.30.0 Command: /Library/Frameworks/R.framework/Resources/bin/R CMD build --keep-empty-dirs --no-resave-data annotatr StartedAt: 2024-10-16 17:03:45 -0400 (Wed, 16 Oct 2024) EndedAt: 2024-10-16 17:07:58 -0400 (Wed, 16 Oct 2024) EllapsedTime: 253.8 seconds RetCode: 0 Status: OK PackageFile: annotatr_1.30.0.tar.gz PackageFileSize: 2.449 MiB