Package: annotatr Version: 1.30.0 Command: F:\biocbuild\bbs-3.19-bioc\R\bin\R.exe CMD INSTALL annotatr StartedAt: 2024-06-26 16:11:47 -0400 (Wed, 26 Jun 2024) EndedAt: 2024-06-26 16:12:51 -0400 (Wed, 26 Jun 2024) EllapsedTime: 63.3 seconds RetCode: 0 Status: OK