Package: annotatr Version: 1.30.0 Command: F:\biocbuild\bbs-3.19-bioc\R\bin\R.exe CMD check --no-multiarch --install=check:annotatr.install-out.txt --library=F:\biocbuild\bbs-3.19-bioc\R\library --no-vignettes --timings annotatr_1.30.0.tar.gz StartedAt: 2024-07-07 22:20:03 -0400 (Sun, 07 Jul 2024) EndedAt: 2024-07-07 22:26:54 -0400 (Sun, 07 Jul 2024) EllapsedTime: 411.2 seconds RetCode: 0 Status: OK CheckDir: annotatr.Rcheck Warnings: 0