Package: anota2seq Version: 1.26.0 Command: /Library/Frameworks/R.framework/Resources/bin/R CMD check --install=check:anota2seq.install-out.txt --library=/Library/Frameworks/R.framework/Resources/library --no-vignettes --timings anota2seq_1.26.0.tar.gz StartedAt: 2024-05-26 19:22:30 -0400 (Sun, 26 May 2024) EndedAt: 2024-05-26 19:27:19 -0400 (Sun, 26 May 2024) EllapsedTime: 288.4 seconds RetCode: 0 Status: OK CheckDir: anota2seq.Rcheck Warnings: 0