Package: anota2seq Version: 1.26.0 Command: /Library/Frameworks/R.framework/Resources/bin/R CMD build --keep-empty-dirs --no-resave-data anota2seq StartedAt: 2024-10-16 17:03:51 -0400 (Wed, 16 Oct 2024) EndedAt: 2024-10-16 17:10:53 -0400 (Wed, 16 Oct 2024) EllapsedTime: 421.6 seconds RetCode: 0 Status: OK PackageFile: anota2seq_1.26.0.tar.gz PackageFileSize: 972.5 KiB