Package: anota2seq Version: 1.26.0 Command: /Library/Frameworks/R.framework/Resources/bin/R CMD INSTALL anota2seq StartedAt: 2024-10-16 16:25:04 -0400 (Wed, 16 Oct 2024) EndedAt: 2024-10-16 16:26:18 -0400 (Wed, 16 Oct 2024) EllapsedTime: 74.0 seconds RetCode: 0 Status: OK