Package: anota2seq Version: 1.26.0 Command: /home/biocbuild/bbs-3.19-bioc/R/bin/R CMD check --install=check:anota2seq.install-out.txt --library=/home/biocbuild/bbs-3.19-bioc/R/site-library --timings anota2seq_1.26.0.tar.gz StartedAt: 2024-10-16 21:38:09 -0400 (Wed, 16 Oct 2024) EndedAt: 2024-10-16 21:43:57 -0400 (Wed, 16 Oct 2024) EllapsedTime: 348.9 seconds RetCode: 0 Status: WARNINGS CheckDir: anota2seq.Rcheck Warnings: 1