Package: apComplex Version: 2.70.0 Maintainer: Denise Scholtens MaintainerEmail: dscholtens at northwestern.edu git_url: https://git.bioconductor.org/packages/apComplex git_branch: RELEASE_3_19 git_last_commit: fed5999 git_last_commit_date: 2024-04-30 10:13:29 -0400 (Tue, 30 Apr 2024)