Package: apComplex Version: 2.70.0 Command: /Library/Frameworks/R.framework/Resources/bin/R CMD INSTALL apComplex StartedAt: 2024-10-16 16:19:07 -0400 (Wed, 16 Oct 2024) EndedAt: 2024-10-16 16:19:26 -0400 (Wed, 16 Oct 2024) EllapsedTime: 18.6 seconds RetCode: 0 Status: OK