Package: apComplex Version: 2.70.0 Command: /home/biocbuild/R/R-beta-2024-04-15_r86425/bin/R CMD build --keep-empty-dirs --no-resave-data apComplex StartedAt: 2024-05-08 22:19:48 -0000 (Wed, 08 May 2024) EndedAt: 2024-05-08 22:20:15 -0000 (Wed, 08 May 2024) EllapsedTime: 27.0 seconds RetCode: 0 Status: OK PackageFile: apComplex_2.70.0.tar.gz PackageFileSize: 621.2 KiB