Package: apComplex Version: 2.70.0 Command: /home/biocbuild/R/R-beta-2024-04-15_r86425/bin/R CMD check --install=check:apComplex.install-out.txt --library=/home/biocbuild/R/R-beta-2024-04-15_r86425/site-library --no-vignettes --timings apComplex_2.70.0.tar.gz StartedAt: 2024-05-09 04:47:02 -0000 (Thu, 09 May 2024) EndedAt: 2024-05-09 04:49:11 -0000 (Thu, 09 May 2024) EllapsedTime: 129.3 seconds RetCode: 0 Status: OK CheckDir: apComplex.Rcheck Warnings: 0